BEGIN:VCALENDAR
VERSION:2.0
PRODID:-//217.160.168.100//NONSGML kigkonsult.se iCalcreator 2.20//
CALSCALE:GREGORIAN
METHOD:PUBLISH
X-WR-TIMEZONE:Europe/Berlin
BEGIN:VEVENT
UID:event7@My Band CMS
DTSTAMP:20260421T223214Z
CATEGORIES:öffentlich
DESCRIPTION:Test Veranstaltungstitel\nKategorie: öffentlich\nICS-Link: http
 s://www.lowweb.musiker.com.de/index.php?option=com_jem&view=event&id=7:tes
 t-veranstaltungstitel\n
DTSTART;TZID=Europe/Berlin:20261231T200000
DTEND;TZID=Europe/Berlin:20261231T220000
LOCATION:Crash\,Schnewlinstraße 7\,79098 Freiburg
SUMMARY:Test Veranstaltungstitel
URL:https://www.lowweb.musiker.com.de/index.php?option=com_jem&view=event&i
 d=7:test-veranstaltungstitel
END:VEVENT
END:VCALENDAR